BEGIN:VCALENDAR
VERSION:2.0
PRODID:-//wp-events-plugin.com//7.2.3.1//EN
TZID:Europe/Rome
X-WR-TIMEZONE:Europe/Rome
BEGIN:VEVENT
UID:24@sanpiodecimoloano.it
DTSTART;TZID=Europe/Rome:20260425T093000
DTEND;TZID=Europe/Rome:20260425T180000
DTSTAMP:20260417T164932Z
URL:https://www.sanpiodecimoloano.it/events/giornata-diocesana-dei-ministr
 anti-e-di-tutti-i-bambini/
SUMMARY:Giornata Diocesana dei Ministranti
DESCRIPTION:L’Ufficio di Pastorale Giovanile e Vocazionale\, l’Ufficio 
 Catechistico Diocesano e il Movimento Vocazionale “La Baracca” propong
 ono per il giorno 25 aprile prossimo la Giornata Diocesana dei ministran
 ti presso il Seminario Vescovile di Albenga.\nLeggi l'articolo... Clicca 
 qui
CATEGORIES:Catechismo
LOCATION:Seminario Vescovile di Albenga\, Via Galileo Galilei 36\, Albenga\
 , Savona\, 17031\, Liguria\, Italia
X-APPLE-STRUCTURED-LOCATION;VALUE=URI;X-ADDRESS=Via Galileo Galilei 36\, Al
 benga\, Savona\, 17031\, Liguria\, Italia;X-APPLE-RADIUS=100;X-TITLE=Semin
 ario Vescovile di Albenga:geo:0,0
END:VEVENT
BEGIN:VTIMEZONE
TZID:Europe/Rome
X-LIC-LOCATION:Europe/Rome
BEGIN:DAYLIGHT
DTSTART:20260329T030000
TZOFFSETFROM:+0100
TZOFFSETTO:+0200
TZNAME:CEST
END:DAYLIGHT
END:VTIMEZONE
END:VCALENDAR