BEGIN:VCALENDAR
VERSION:2.0
PRODID:-//wp-events-plugin.com//7.2.3.1//EN
TZID:Europe/Rome
X-WR-TIMEZONE:Europe/Rome
BEGIN:VEVENT
UID:25@sanpiodecimoloano.it
DTSTART;TZID=Europe/Rome:20260503T110000
DTEND;TZID=Europe/Rome:20260503T123000
DTSTAMP:20260424T151013Z
URL:https://www.sanpiodecimoloano.it/events/domenica-3-maggio-ore-11-00/
SUMMARY:Domenica 3 Maggio ore 11.00
DESCRIPTION:Festa della Cresima\nDomenica 3 maggio 2026\, durante la Santa 
 Messa delle ore 11.00\, viviamo insieme un momento di grazia e di gioia: i
  nostri ragazzi riceveranno il Sacramento della Confermazione.\nA presiede
 re la celebrazione sarà il nostro Vescovo\, Mons. Guglielmo Borghetti\, c
 he con la sua presenza renderà ancora più solenne e significativo questo
  passo fondamentale nel cammino di fede dei nostri giovani.\nLeggi l'artic
 olo... Clicca qui
CATEGORIES:Catechismo
LOCATION:Parrocchia San Pio X\, Via Bergamo\, 10\, Loano\, Savona\, 17025\,
  Liguria\, Italia
X-APPLE-STRUCTURED-LOCATION;VALUE=URI;X-ADDRESS=Via Bergamo\, 10\, Loano\, 
 Savona\, 17025\, Liguria\, Italia;X-APPLE-RADIUS=100;X-TITLE=Parrocchia Sa
 n Pio X:geo:0,0
END:VEVENT
BEGIN:VTIMEZONE
TZID:Europe/Rome
X-LIC-LOCATION:Europe/Rome
BEGIN:DAYLIGHT
DTSTART:20260329T030000
TZOFFSETFROM:+0100
TZOFFSETTO:+0200
TZNAME:CEST
END:DAYLIGHT
END:VTIMEZONE
END:VCALENDAR